{
 "currentVersion": 10.81,
 "serviceDescription": "",
 "mapName": "ZPS - ÚMPS - Úroveň na terénu",
 "description": "",
 "copyrightText": "",
 "supportsDynamicLayers": true,
 "layers": [
  {
   "id": 389,
   "name": "Kódy",
   "parentLayerId": -1,
   "defaultVisibility": true,
   "subLayerIds": [
    371,
    373,
    377,
    379,
    384,
    386,
    388
   ],
   "minScale": 0,
   "maxScale": 0,
   "type": "Group Layer"
  },
  {
   "id": 371,
   "name": "Budovy",
   "parentLayerId": 389,
   "defaultVisibility": true,
   "subLayerIds": [
    370
   ],
   "minScale": 0,
   "maxScale": 0,
   "type": "Group Layer"
  },
  {
   "id": 370,
   "name": "Kód - budova - 500",
   "parentLayerId": 371,
   "defaultVisibility": true,
   "subLayerIds": null,
   "minScale": 501,
   "maxScale": 0,
   "type": "Feature Layer",
   "geometryType": "esriGeometryPoint"
  },
  {
   "id": 373,
   "name": "Vodní díla",
   "parentLayerId": 389,
   "defaultVisibility": true,
   "subLayerIds": [
    372
   ],
   "minScale": 0,
   "maxScale": 0,
   "type": "Group Layer"
  },
  {
   "id": 372,
   "name": "Kód - vodní dílo - 250",
   "parentLayerId": 373,
   "defaultVisibility": true,
   "subLayerIds": null,
   "minScale": 251,
   "maxScale": 0,
   "type": "Feature Layer",
   "geometryType": "esriGeometryPoint"
  },
  {
   "id": 377,
   "name": "Vodstvo, vegetace a terén",
   "parentLayerId": 389,
   "defaultVisibility": true,
   "subLayerIds": [
    374,
    375,
    376
   ],
   "minScale": 0,
   "maxScale": 0,
   "type": "Group Layer"
  },
  {
   "id": 374,
   "name": "Kód - vodstvo - 250",
   "parentLayerId": 377,
   "defaultVisibility": true,
   "subLayerIds": null,
   "minScale": 251,
   "maxScale": 0,
   "type": "Feature Layer",
   "geometryType": "esriGeometryPoint"
  },
  {
   "id": 375,
   "name": "Kód - vegetace - 250",
   "parentLayerId": 377,
   "defaultVisibility": true,
   "subLayerIds": null,
   "minScale": 251,
   "maxScale": 0,
   "type": "Feature Layer",
   "geometryType": "esriGeometryPoint"
  },
  {
   "id": 376,
   "name": "Kód - silniční vegetace - 250",
   "parentLayerId": 377,
   "defaultVisibility": true,
   "subLayerIds": null,
   "minScale": 251,
   "maxScale": 0,
   "type": "Feature Layer",
   "geometryType": "esriGeometryPoint"
  },
  {
   "id": 379,
   "name": "Drobné stavby a příslušenství",
   "parentLayerId": 389,
   "defaultVisibility": true,
   "subLayerIds": [
    378
   ],
   "minScale": 0,
   "maxScale": 0,
   "type": "Group Layer"
  },
  {
   "id": 378,
   "name": "Kód - stavba - 250",
   "parentLayerId": 379,
   "defaultVisibility": true,
   "subLayerIds": null,
   "minScale": 251,
   "maxScale": 0,
   "type": "Feature Layer",
   "geometryType": "esriGeometryPoint"
  },
  {
   "id": 384,
   "name": "Dopravní stavby",
   "parentLayerId": 389,
   "defaultVisibility": true,
   "subLayerIds": [
    380,
    381,
    382,
    383
   ],
   "minScale": 0,
   "maxScale": 0,
   "type": "Group Layer"
  },
  {
   "id": 380,
   "name": "Kód - pozemní komunikace - 250",
   "parentLayerId": 384,
   "defaultVisibility": true,
   "subLayerIds": null,
   "minScale": 251,
   "maxScale": 0,
   "type": "Feature Layer",
   "geometryType": "esriGeometryPoint"
  },
  {
   "id": 381,
   "name": "Kód - železnice - 250",
   "parentLayerId": 384,
   "defaultVisibility": true,
   "subLayerIds": null,
   "minScale": 251,
   "maxScale": 0,
   "type": "Feature Layer",
   "geometryType": "esriGeometryPoint"
  },
  {
   "id": 382,
   "name": "Kód - dopravní stavba - 250",
   "parentLayerId": 384,
   "defaultVisibility": true,
   "subLayerIds": null,
   "minScale": 251,
   "maxScale": 0,
   "type": "Feature Layer",
   "geometryType": "esriGeometryPoint"
  },
  {
   "id": 383,
   "name": "Kód - mostní váha - 250",
   "parentLayerId": 384,
   "defaultVisibility": true,
   "subLayerIds": null,
   "minScale": 251,
   "maxScale": 0,
   "type": "Feature Layer",
   "geometryType": "esriGeometryPoint"
  },
  {
   "id": 386,
   "name": "Stavby pro průmyslové účely a hospodářství",
   "parentLayerId": 389,
   "defaultVisibility": true,
   "subLayerIds": [
    385
   ],
   "minScale": 0,
   "maxScale": 0,
   "type": "Group Layer"
  },
  {
   "id": 385,
   "name": "Kód - důlní stavba - 250",
   "parentLayerId": 386,
   "defaultVisibility": true,
   "subLayerIds": null,
   "minScale": 251,
   "maxScale": 0,
   "type": "Feature Layer",
   "geometryType": "esriGeometryPoint"
  },
  {
   "id": 388,
   "name": "Doplňkové prvky",
   "parentLayerId": 389,
   "defaultVisibility": true,
   "subLayerIds": [
    387
   ],
   "minScale": 0,
   "maxScale": 0,
   "type": "Group Layer"
  },
  {
   "id": 387,
   "name": "Kód - neznámé území - 250",
   "parentLayerId": 388,
   "defaultVisibility": true,
   "subLayerIds": null,
   "minScale": 251,
   "maxScale": 0,
   "type": "Feature Layer",
   "geometryType": "esriGeometryPoint"
  },
  {
   "id": 369,
   "name": "Body",
   "parentLayerId": -1,
   "defaultVisibility": true,
   "subLayerIds": [
    365,
    366,
    367,
    368
   ],
   "minScale": 0,
   "maxScale": 0,
   "type": "Group Layer"
  },
  {
   "id": 365,
   "name": "Technická infrastruktura - Povrchové znaky kanalizace - 500",
   "parentLayerId": 369,
   "defaultVisibility": true,
   "subLayerIds": null,
   "minScale": 501,
   "maxScale": 0,
   "type": "Feature Layer",
   "geometryType": "esriGeometryPoint"
  },
  {
   "id": 366,
   "name": "Stavební prvky bodové - 500",
   "parentLayerId": 369,
   "defaultVisibility": true,
   "subLayerIds": null,
   "minScale": 501,
   "maxScale": 0,
   "type": "Feature Layer",
   "geometryType": "esriGeometryPoint"
  },
  {
   "id": 367,
   "name": "Dopravní prvky bodové - 500",
   "parentLayerId": 369,
   "defaultVisibility": true,
   "subLayerIds": null,
   "minScale": 501,
   "maxScale": 0,
   "type": "Feature Layer",
   "geometryType": "esriGeometryPoint"
  },
  {
   "id": 368,
   "name": "Prvky zeleně bodové - 250",
   "parentLayerId": 369,
   "defaultVisibility": true,
   "subLayerIds": null,
   "minScale": 251,
   "maxScale": 0,
   "type": "Feature Layer",
   "geometryType": "esriGeometryPoint"
  },
  {
   "id": 364,
   "name": "Linie",
   "parentLayerId": -1,
   "defaultVisibility": true,
   "subLayerIds": [
    341,
    342,
    343,
    344,
    345,
    346,
    349,
    352,
    353,
    354,
    357,
    360,
    361,
    362,
    363
   ],
   "minScale": 0,
   "maxScale": 0,
   "type": "Group Layer"
  },
  {
   "id": 341,
   "name": "Hranice budov - 1000",
   "parentLayerId": 364,
   "defaultVisibility": true,
   "subLayerIds": [
    339,
    340
   ],
   "minScale": 0,
   "maxScale": 0,
   "type": "Group Layer"
  },
  {
   "id": 339,
   "name": "Hranice budov",
   "parentLayerId": 341,
   "defaultVisibility": true,
   "subLayerIds": null,
   "minScale": 1001,
   "maxScale": 0,
   "type": "Feature Layer",
   "geometryType": "esriGeometryPolyline"
  },
  {
   "id": 340,
   "name": "Vnitřní členění budov",
   "parentLayerId": 341,
   "defaultVisibility": true,
   "subLayerIds": null,
   "minScale": 1001,
   "maxScale": 0,
   "type": "Feature Layer",
   "geometryType": "esriGeometryPolyline"
  },
  {
   "id": 342,
   "name": "Hranice budov - 50000",
   "parentLayerId": 364,
   "defaultVisibility": true,
   "subLayerIds": null,
   "minScale": 50001,
   "maxScale": 1001,
   "type": "Feature Layer",
   "geometryType": "esriGeometryPolyline"
  },
  {
   "id": 343,
   "name": "Stavební prvky liniové - 500",
   "parentLayerId": 364,
   "defaultVisibility": true,
   "subLayerIds": null,
   "minScale": 501,
   "maxScale": 0,
   "type": "Feature Layer",
   "geometryType": "esriGeometryPolyline"
  },
  {
   "id": 344,
   "name": "Stavební prvky liniové - 5000",
   "parentLayerId": 364,
   "defaultVisibility": true,
   "subLayerIds": null,
   "minScale": 5001,
   "maxScale": 501,
   "type": "Feature Layer",
   "geometryType": "esriGeometryPolyline"
  },
  {
   "id": 345,
   "name": "Hranice staveb - 5000",
   "parentLayerId": 364,
   "defaultVisibility": true,
   "subLayerIds": null,
   "minScale": 5001,
   "maxScale": 0,
   "type": "Feature Layer",
   "geometryType": "esriGeometryPolyline"
  },
  {
   "id": 346,
   "name": "Hranice zdi - 5000",
   "parentLayerId": 364,
   "defaultVisibility": true,
   "subLayerIds": null,
   "minScale": 5001,
   "maxScale": 0,
   "type": "Feature Layer",
   "geometryType": "esriGeometryPolyline"
  },
  {
   "id": 349,
   "name": "Dopravní prvky liniové - 500",
   "parentLayerId": 364,
   "defaultVisibility": true,
   "subLayerIds": [
    347,
    348
   ],
   "minScale": 0,
   "maxScale": 0,
   "type": "Group Layer"
  },
  {
   "id": 347,
   "name": "Dopravní prvky",
   "parentLayerId": 349,
   "defaultVisibility": true,
   "subLayerIds": null,
   "minScale": 501,
   "maxScale": 0,
   "type": "Feature Layer",
   "geometryType": "esriGeometryPolyline"
  },
  {
   "id": 348,
   "name": "Dopravní zařízení",
   "parentLayerId": 349,
   "defaultVisibility": true,
   "subLayerIds": null,
   "minScale": 501,
   "maxScale": 0,
   "type": "Feature Layer",
   "geometryType": "esriGeometryPolyline"
  },
  {
   "id": 352,
   "name": "Dopravní prvky liniové - 5000",
   "parentLayerId": 364,
   "defaultVisibility": true,
   "subLayerIds": [
    350,
    351
   ],
   "minScale": 0,
   "maxScale": 0,
   "type": "Group Layer"
  },
  {
   "id": 350,
   "name": "Dopravní prvek",
   "parentLayerId": 352,
   "defaultVisibility": true,
   "subLayerIds": null,
   "minScale": 5001,
   "maxScale": 501,
   "type": "Feature Layer",
   "geometryType": "esriGeometryPolyline"
  },
  {
   "id": 351,
   "name": "Dopravní zařízení",
   "parentLayerId": 352,
   "defaultVisibility": true,
   "subLayerIds": null,
   "minScale": 5001,
   "maxScale": 501,
   "type": "Feature Layer",
   "geometryType": "esriGeometryPolyline"
  },
  {
   "id": 353,
   "name": "Hranice dopravních staveb - 1000",
   "parentLayerId": 364,
   "defaultVisibility": true,
   "subLayerIds": null,
   "minScale": 1001,
   "maxScale": 0,
   "type": "Feature Layer",
   "geometryType": "esriGeometryPolyline"
  },
  {
   "id": 354,
   "name": "Hranice dopravních staveb - 50000",
   "parentLayerId": 364,
   "defaultVisibility": true,
   "subLayerIds": null,
   "minScale": 50001,
   "maxScale": 1001,
   "type": "Feature Layer",
   "geometryType": "esriGeometryPolyline"
  },
  {
   "id": 357,
   "name": "Hranice vodstva - 5000",
   "parentLayerId": 364,
   "defaultVisibility": true,
   "subLayerIds": [
    355,
    356
   ],
   "minScale": 0,
   "maxScale": 0,
   "type": "Group Layer"
  },
  {
   "id": 355,
   "name": "Hranice vodního díla",
   "parentLayerId": 357,
   "defaultVisibility": true,
   "subLayerIds": null,
   "minScale": 5001,
   "maxScale": 0,
   "type": "Feature Layer",
   "geometryType": "esriGeometryPolyline"
  },
  {
   "id": 356,
   "name": "Hranice přírodní vodní plochy",
   "parentLayerId": 357,
   "defaultVisibility": true,
   "subLayerIds": null,
   "minScale": 5001,
   "maxScale": 0,
   "type": "Feature Layer",
   "geometryType": "esriGeometryPolyline"
  },
  {
   "id": 360,
   "name": "Hranice ostatních ploch - 5000",
   "parentLayerId": 364,
   "defaultVisibility": true,
   "subLayerIds": [
    358,
    359
   ],
   "minScale": 0,
   "maxScale": 0,
   "type": "Group Layer"
  },
  {
   "id": 358,
   "name": "Hranice ostatních ploch",
   "parentLayerId": 360,
   "defaultVisibility": true,
   "subLayerIds": null,
   "minScale": 5001,
   "maxScale": 0,
   "type": "Feature Layer",
   "geometryType": "esriGeometryPolyline"
  },
  {
   "id": 359,
   "name": "Hranice přírodního objektu",
   "parentLayerId": 360,
   "defaultVisibility": true,
   "subLayerIds": null,
   "minScale": 5001,
   "maxScale": 0,
   "type": "Feature Layer",
   "geometryType": "esriGeometryPolyline"
  },
  {
   "id": 361,
   "name": "Hranice zeleně - 5000",
   "parentLayerId": 364,
   "defaultVisibility": true,
   "subLayerIds": null,
   "minScale": 5001,
   "maxScale": 0,
   "type": "Feature Layer",
   "geometryType": "esriGeometryPolyline"
  },
  {
   "id": 362,
   "name": "Hranice silniční vegetace - 5000",
   "parentLayerId": 364,
   "defaultVisibility": true,
   "subLayerIds": null,
   "minScale": 5001,
   "maxScale": 0,
   "type": "Feature Layer",
   "geometryType": "esriGeometryPolyline"
  },
  {
   "id": 363,
   "name": "Hrany, šrafy - 5000",
   "parentLayerId": 364,
   "defaultVisibility": true,
   "subLayerIds": null,
   "minScale": 5001,
   "maxScale": 0,
   "type": "Feature Layer",
   "geometryType": "esriGeometryPolyline"
  }
 ],
 "tables": [],
 "spatialReference": {
  "wkid": 102067,
  "latestWkid": 5514
 },
 "singleFusedMapCache": true,
 "tileInfo": {
  "rows": 512,
  "cols": 512,
  "dpi": 96,
  "format": "MIXED",
  "compressionQuality": 75,
  "origin": {
   "x": -33699800,
   "y": 33699800
  },
  "spatialReference": {
   "wkid": 102067,
   "latestWkid": 5514
  },
  "lods": [
   {
    "level": 0,
    "resolution": 13.229193125052918,
    "scale": 50000
   },
   {
    "level": 1,
    "resolution": 6.614596562526459,
    "scale": 25000
   },
   {
    "level": 2,
    "resolution": 2.6458386250105836,
    "scale": 10000
   },
   {
    "level": 3,
    "resolution": 1.3229193125052918,
    "scale": 5000
   },
   {
    "level": 4,
    "resolution": 1.0583354500042335,
    "scale": 4000
   },
   {
    "level": 5,
    "resolution": 0.5291677250021167,
    "scale": 2000
   },
   {
    "level": 6,
    "resolution": 0.26458386250105836,
    "scale": 1000
   },
   {
    "level": 7,
    "resolution": 0.13229193125052918,
    "scale": 500
   },
   {
    "level": 8,
    "resolution": 0.06614596562526459,
    "scale": 250
   }
  ]
 },
 "initialExtent": {
  "xmin": -481201.92237657786,
  "ymin": -1110020.420972105,
  "xmax": -461519.4230115791,
  "ymax": -1097090.7791128214,
  "spatialReference": {
   "wkid": 102067,
   "latestWkid": 5514
  }
 },
 "fullExtent": {
  "xmin": -889556.6900000013,
  "ymin": -1151096.4700009988,
  "xmax": -446689.8900000006,
  "ymax": -979822.3200000003,
  "spatialReference": {
   "wkid": 102067,
   "latestWkid": 5514
  }
 },
 "minScale": 50000,
 "maxScale": 250,
 "units": "esriMeters",
 "supportedImageFormatTypes": "PNG32,PNG24,PNG,JPG,DIB,TIFF,EMF,PS,PDF,GIF,SVG,SVGZ,BMP",
 "documentInfo": {
  "Title": "",
  "Author": "",
  "Comments": "",
  "Subject": "",
  "Category": "",
  "AntialiasingMode": "None",
  "TextAntialiasingMode": "Force",
  "Keywords": ""
 },
 "capabilities": "Map,Query,Data",
 "supportedQueryFormats": "JSON, geoJSON",
 "exportTilesAllowed": false,
 "referenceScale": 0,
 "supportsDatumTransformation": true,
 "maxRecordCount": 1000,
 "maxImageHeight": 4096,
 "maxImageWidth": 4096,
 "supportedExtensions": "WMSServer"
}
